Workbook

Sheet Değerlendirme
B2: TEDARİKÇİ HİZMET DEĞERLENDİRME FORMU
B4: Değerlendirme tarihi:
B5: Değerlendirmeyi yapan:
B6: Değerlendirme dönemi:
B7: Değerlendirilen tedarikçi :
B9: SÖZLEŞME | D9: Sözleşme Şartlarının Gözden Geçirilmesi | V9: 10
D11: Sözleşme şartlarına uyum. | T11: 5 | U11: =IF(Değerlendirme!S11<>"",T11,"")
D14: İade Şartlarına uyum. | T14: 5 | U14: =IF(Değerlendirme!S14<>"",T14,"")
B17: ISO27001 | D17: Bilgi ve Veri Güvenliği | V17: 20
D20: Tedarikçinin ISO 27001 sertifikası mevcut | T20: 20 | U20: =IF(Değerlendirme!S20<>"",T20,"")
D23: Tedarikçinin ISO 27001 sertifikası mevcut değil | T23: 0 | U23: =IF(Değerlendirme!S23<>"",T23,"")
B27: İLETİŞİM | D27: Tedarikçi birlikte ve programlı çalışma disiplinine sahip,ürün geliştirme ve iyileştirme faliyetlerine katkıda bulunmaya istekli mi? | V27: 10
D31: Evet | T31: 10 | U31: =IF(Değerlendirme!S31<>"",T31,"")
D33: Hayır | T33: 0 | U33: =IF(Değerlendirme!S33<>"",T33,"")
B37: GİZLİLİK | D37: Tedarikçi gizlilik prensiplerini gözetiyor mu? | V37: 20
D41: Evet | T41: 20 | U41: =IF(Değerlendirme!S41<>"",T41,"")
D43: Hayır | T43: 0 | U43: =IF(Değerlendirme!S43<>"",T43,"")
B45: İŞ BİRLİĞİ DESTEK | D45: Sözleşme görüşmelerinde gösterdiği iş birliğini değerlendiriniz (yıllık fiyat sözleşmeleri). Tedarikçi ile sözleşme yapılmamışsa,"değerlendirilmez" seçeneğini işaretleyiniz. | V45: 40
D47: Oldukça yapıcı bir tutum içinde | T47: 10 | U47: =IF(Değerlendirme!S47<>"",T47,"")
D50: İyi bir sözleşme ortağı, görüşme sayısı az (<=2/Yıl) . | T50: 7 | U50: =IF(Değerlendirme!S50<>"",T50,"")
D53: Zor bir sözleşme ortağı, bir çok görüşme gerektirmekte (>2/Yıl). | T53: 4 | U53: =IF(Değerlendirme!S53<>"",T53,"")
D56: İş birliğinde bulunmuyor. | T56: 0 | U56: =IF(Değerlendirme!S56<>"",T56,"")
D59: Değerlendirilmez | T59: -10 | U59: =IF(Değerlendirme!S59<>"",T59,"")
D61: Tekliflerin eksiksiz olması ve güvenilirliği,Maliyet Analizli Çalışma
D63: Çok iyi (Maliyet analizi mevcut,teklif eksiksiz, değişiklik gerektirmemekte, güvenilir). | T63: 10 | U63: =IF(Değerlendirme!S63<>"",T63,"")
D66: İyi (eksiksiz fakat maliyet analizi mevcut değil) | T66: 5 | U66: =IF(Değerlendirme!S66<>"",T66,"")
D69: Kötü (teklifler eksik, sürekli değişikliler gerektirmekte,maliyet analizi mevcut değil) | T69: 0 | U69: =IF(Değerlendirme!S69<>"",T69,"")
D71: Tedarikçinin değişikliklerde geri dönüş süresini,teklif verme hızını ve devreye alma hızını nasıl değerlendirirsiniz?
D73: Tedarikçinin değişikliklerde geri dönüş ve teklif verme hızı çok iyi,uyarılmadan hemen cevap vermekte, değişikliklere hızlı uyum sağlamakta | T73: 10 | U73: =IF(Değerlendirme!S73<>"",T73,"")
D76: Tedarikçinin değişikliklerde geri dönüş ve teklif verme hızı iyi,ancak bazen uyarmak gerekebiliyor, devreye alma hızı beklenen düzeyde fakat zaman zaman aksaklıklar olabiliyor | T76: 5 | U76: =IF(Değerlendirme!S76<>"",T76,"")
D80: Tedarikçinin değişikliklerde geri dönüş ve teklif verme hızı çok yavaş , beklentilere zamanında cevap verememekte | T80: 0 | U80: =IF(Değerlendirme!S80<>"",T80,"")
D82: İletişim süreci (ulaşılabilirlik,muhatabın alternatifi var mı, tedarikçinin genel yaklaşımı)
D84: Anında bilgi alınabilmekte,muhatabın alternatifi mevcut,herzaman firmaya ulaşılabilmekte,tedarikçinin her türlü yaklaşımı çözüme dönük ve/veya gerektiğinde yerinde destek verebilmekte. | T84: 10 | U84: =IF(Değerlendirme!S84<>"",T84,"")
D87: Birkaç gün sonra bilgi vermekte,muhatabın alternatifi mevcut değil,fakat genel olarak tedarikçi çözüme dönük yaklaşım içinde | T87: 5 | U87: =IF(Değerlendirme!S87<>"",T87,"")
D90: Sorulduğunda, uyarıldığında ancak bilgi aktarmakta, kendiliğinden bilgilendirme yapmıyor,muhatabın alternatifi mevcut değil,tedarikçinin yaklaşımı çözüme dönük değil, ulaşılabilirlik zayıf. | T90: 0 | U90: =IF(Değerlendirme!S90<>"",T90,"")
B93: Toplam Ulaşılan Tedarilçi Hizmet Değerlendirme Puanı (%100 üzerinden değerlendirilmiştir) | R93: =SUM(U11:U14,U19:U24,U31:U33,U41:U43,U47:U59,U63:U69,U73:U80,U84:U90) -> 0
B94: Döküman no: BİM.FR.15 Yayın Tarihi: 10.06.2020 Rev no/Tarih: 01/11.10.2026
